BEGIN:VCALENDAR
VERSION:2.0
PRODID:-//Aloha Health &amp; Wellness - ECPv6.15.17.1//NONSGML v1.0//EN
CALSCALE:GREGORIAN
METHOD:PUBLISH
X-WR-CALNAME:Aloha Health &amp; Wellness
X-ORIGINAL-URL:https://www.alohahealthandwellness.com
X-WR-CALDESC:Events for Aloha Health &amp; Wellness
REFRESH-INTERVAL;VALUE=DURATION:PT1H
X-Robots-Tag:noindex
X-PUBLISHED-TTL:PT1H
BEGIN:VTIMEZONE
TZID:America/Halifax
BEGIN:DAYLIGHT
TZOFFSETFROM:-0400
TZOFFSETTO:-0300
TZNAME:ADT
DTSTART:20220313T060000
END:DAYLIGHT
BEGIN:STANDARD
TZOFFSETFROM:-0300
TZOFFSETTO:-0400
TZNAME:AST
DTSTART:20221106T050000
END:STANDARD
BEGIN:DAYLIGHT
TZOFFSETFROM:-0400
TZOFFSETTO:-0300
TZNAME:ADT
DTSTART:20230312T060000
END:DAYLIGHT
BEGIN:STANDARD
TZOFFSETFROM:-0300
TZOFFSETTO:-0400
TZNAME:AST
DTSTART:20231105T050000
END:STANDARD
BEGIN:DAYLIGHT
TZOFFSETFROM:-0400
TZOFFSETTO:-0300
TZNAME:ADT
DTSTART:20240310T060000
END:DAYLIGHT
BEGIN:STANDARD
TZOFFSETFROM:-0300
TZOFFSETTO:-0400
TZNAME:AST
DTSTART:20241103T050000
END:STANDARD
END:VTIMEZONE
BEGIN:VEVENT
DTSTART;TZID=America/Halifax:20230503T190000
DTEND;TZID=America/Halifax:20230503T203000
DTSTAMP:20260419T141959
CREATED:20230426T211723Z
LAST-MODIFIED:20230426T211723Z
UID:1978-1683140400-1683145800@www.alohahealthandwellness.com
SUMMARY:Full Flower Moon Lunar Eclipse Mediation
DESCRIPTION:Come feel the Magical energy of both the Lunar Eclipse and Full Flower Moon while being bathed with Sound Vibration.  Release what no longer serves you to Grandmother Moon’s Gentle Moonlight.  Leave feeling refreshed\, rejuvenated and renewed in mind\, body and soul. \nPrior Registration is required as the space fills up quickly.  To register click on website link below.
URL:https://www.alohahealthandwellness.com/event/full-flower-moon-lunar-eclipse-mediation/
LOCATION:Moon Magic\, 432 Hillsdale Ave.\, Hillsdale\, 07642\, United States
CATEGORIES:Sound Therapy
ORGANIZER;CN="Veronica Paduch":MAILTO:msvee@alohahealthandwellness.com
END:VEVENT
END:VCALENDAR